BEGIN:VCALENDAR
VERSION:2.0
PRODID:-//empowercdc.org//NONSGML kigkonsult.se iCalcreator 2.30.10//
CALSCALE:GREGORIAN
METHOD:PUBLISH
UID:82535f8e-df93-401e-b06d-573910c0384c
X-WR-CALDESC:
X-WR-RELCALID:00147b1bcf356bdbb7b55adb9334cf25
X-WR-TIMEZONE:America/Chicago
BEGIN:VTIMEZONE
TZID:America/Chicago
BEGIN:STANDARD
TZNAME:CST
DTSTART:20211107T020000
TZOFFSETFROM:-0500
TZOFFSETTO:-0600
RDATE:20221106T020000
RDATE:20231105T020000
END:STANDARD
BEGIN:DAYLIGHT
TZNAME:CDT
DTSTART:20220313T020000
TZOFFSETFROM:-0600
TZOFFSETTO:-0500
RDATE:20230312T020000
END:DAYLIGHT
END:VTIMEZONE
BEGIN:VEVENT
UID:eb308992-e21e-4416-adc9-2ff4c2a225a6
DTSTAMP:20260423T160347Z
DESCRIPTION:
DTSTART;TZID=America/Chicago:20220830T140000
DTEND;TZID=America/Chicago:20220830T150000
LOCATION:
SUMMARY:Simply Fit
END:VEVENT
END:VCALENDAR
