BEGIN:VCALENDAR
VERSION:2.0
PRODID:-//empowercdc.org//NONSGML kigkonsult.se iCalcreator 2.30.10//
CALSCALE:GREGORIAN
METHOD:PUBLISH
UID:534bc2cf-7c4d-4ec1-adc1-73a3bb422513
X-WR-CALDESC:
X-WR-RELCALID:a8fca5f2214e3516582a561d40864982
X-WR-TIMEZONE:America/Chicago
BEGIN:VTIMEZONE
TZID:America/Chicago
BEGIN:STANDARD
TZNAME:CST
DTSTART:20211107T020000
TZOFFSETFROM:-0500
TZOFFSETTO:-0600
RDATE:20221106T020000
RDATE:20231105T020000
END:STANDARD
BEGIN:DAYLIGHT
TZNAME:CDT
DTSTART:20220313T020000
TZOFFSETFROM:-0600
TZOFFSETTO:-0500
RDATE:20230312T020000
END:DAYLIGHT
END:VTIMEZONE
BEGIN:VEVENT
UID:53fecb37-b1be-49dc-b181-985cb75ce848
DTSTAMP:20260423T160531Z
DESCRIPTION:
DTSTART;TZID=America/Chicago:20220823T140000
DTEND;TZID=America/Chicago:20220823T150000
LOCATION:
SUMMARY:Simply Fit
END:VEVENT
END:VCALENDAR
