BEGIN:VCALENDAR
VERSION:2.0
PRODID:-//empowercdc.org//NONSGML kigkonsult.se iCalcreator 2.30.10//
CALSCALE:GREGORIAN
METHOD:PUBLISH
UID:9f5347fd-de1c-47b7-b89e-a75abc3da1df
X-WR-CALDESC:
X-WR-RELCALID:41338316cf2bff44337286cf0bb7027c
X-WR-TIMEZONE:America/Chicago
BEGIN:VTIMEZONE
TZID:America/Chicago
BEGIN:STANDARD
TZNAME:CST
DTSTART:20211107T020000
TZOFFSETFROM:-0500
TZOFFSETTO:-0600
RDATE:20221106T020000
RDATE:20231105T020000
END:STANDARD
BEGIN:DAYLIGHT
TZNAME:CDT
DTSTART:20220313T020000
TZOFFSETFROM:-0600
TZOFFSETTO:-0500
RDATE:20230312T020000
END:DAYLIGHT
END:VTIMEZONE
BEGIN:VEVENT
UID:945af215-2b54-4ff5-859a-6bb43eb54c9b
DTSTAMP:20260423T160542Z
DESCRIPTION:
DTSTART;TZID=America/Chicago:20220816T140000
DTEND;TZID=America/Chicago:20220816T150000
LOCATION:
SUMMARY:Simply Fit
END:VEVENT
END:VCALENDAR
