BEGIN:VCALENDAR
VERSION:2.0
PRODID:-//empowercdc.org//NONSGML kigkonsult.se iCalcreator 2.30.10//
CALSCALE:GREGORIAN
METHOD:PUBLISH
UID:837b8353-4765-4d94-b06c-8a3e76c384b8
X-WR-CALDESC:
X-WR-RELCALID:931d7e61781551a767edf11bd13bbf34
X-WR-TIMEZONE:America/Chicago
BEGIN:VTIMEZONE
TZID:America/Chicago
BEGIN:STANDARD
TZNAME:CST
DTSTART:20211107T020000
TZOFFSETFROM:-0500
TZOFFSETTO:-0600
RDATE:20221106T020000
RDATE:20231105T020000
END:STANDARD
BEGIN:DAYLIGHT
TZNAME:CDT
DTSTART:20220313T020000
TZOFFSETFROM:-0600
TZOFFSETTO:-0500
RDATE:20230312T020000
END:DAYLIGHT
END:VTIMEZONE
BEGIN:VEVENT
UID:e11fa5aa-a1c4-48fb-a0c8-17b6e0c12a63
DTSTAMP:20260423T161022Z
DESCRIPTION:
DTSTART;TZID=America/Chicago:20220809T090000
DTEND;TZID=America/Chicago:20220809T100000
LOCATION:Heritage Seniors
SUMMARY:Resident Led Social Gathering
END:VEVENT
END:VCALENDAR
