BEGIN:VCALENDAR
VERSION:2.0
PRODID:-//empowercdc.org//NONSGML kigkonsult.se iCalcreator 2.30.10//
CALSCALE:GREGORIAN
METHOD:PUBLISH
UID:7df02c87-76c2-464b-a505-e1d19db63c48
X-WR-CALDESC:
X-WR-RELCALID:adbd98d3298ab484a55767f076bcbea2
X-WR-TIMEZONE:America/Chicago
BEGIN:VTIMEZONE
TZID:America/Chicago
BEGIN:STANDARD
TZNAME:CST
DTSTART:20211107T020000
TZOFFSETFROM:-0500
TZOFFSETTO:-0600
RDATE:20221106T020000
RDATE:20231105T020000
END:STANDARD
BEGIN:DAYLIGHT
TZNAME:CDT
DTSTART:20220313T020000
TZOFFSETFROM:-0600
TZOFFSETTO:-0500
RDATE:20230312T020000
END:DAYLIGHT
END:VTIMEZONE
BEGIN:VEVENT
UID:6065aace-ecc0-452f-ae99-9f51528e2672
DTSTAMP:20260423T160420Z
DESCRIPTION:
DTSTART;TZID=America/Chicago:20220802T140000
DTEND;TZID=America/Chicago:20220802T150000
LOCATION:
SUMMARY:Simply Fit
END:VEVENT
END:VCALENDAR
