BEGIN:VCALENDAR
VERSION:2.0
PRODID:-//empowercdc.org//NONSGML kigkonsult.se iCalcreator 2.30.10//
CALSCALE:GREGORIAN
METHOD:PUBLISH
UID:aaf2e69c-bdf7-4cb4-881f-40f60b8e4d1d
X-WR-CALDESC:
X-WR-RELCALID:906d1654eb385667d57d9ae6c1c15a26
X-WR-TIMEZONE:America/Chicago
BEGIN:VTIMEZONE
TZID:America/Chicago
BEGIN:STANDARD
TZNAME:CST
DTSTART:20211107T020000
TZOFFSETFROM:-0500
TZOFFSETTO:-0600
RDATE:20221106T020000
RDATE:20231105T020000
END:STANDARD
BEGIN:DAYLIGHT
TZNAME:CDT
DTSTART:20220313T020000
TZOFFSETFROM:-0600
TZOFFSETTO:-0500
RDATE:20230312T020000
END:DAYLIGHT
END:VTIMEZONE
BEGIN:VEVENT
UID:8a2d5bd5-25eb-4a88-b072-43e8054cc9af
DTSTAMP:20260423T161842Z
DESCRIPTION:
DTSTART;TZID=America/Chicago:20220801T100000
DTEND;TZID=America/Chicago:20220801T110000
LOCATION:
SUMMARY:Resident Led Bingo
END:VEVENT
END:VCALENDAR
