BEGIN:VCALENDAR
VERSION:2.0
PRODID:-//empowercdc.org//NONSGML kigkonsult.se iCalcreator 2.30.10//
CALSCALE:GREGORIAN
METHOD:PUBLISH
UID:86cfa7d5-7ac1-4aea-a1b9-c661f0edb586
X-WR-CALDESC:
X-WR-RELCALID:ad574b21668ef9c072dcde73e09c8279
X-WR-TIMEZONE:America/Chicago
BEGIN:VTIMEZONE
TZID:America/Chicago
BEGIN:STANDARD
TZNAME:CST
DTSTART:20211107T020000
TZOFFSETFROM:-0500
TZOFFSETTO:-0600
RDATE:20221106T020000
RDATE:20231105T020000
END:STANDARD
BEGIN:DAYLIGHT
TZNAME:CDT
DTSTART:20220313T020000
TZOFFSETFROM:-0600
TZOFFSETTO:-0500
RDATE:20230312T020000
END:DAYLIGHT
END:VTIMEZONE
BEGIN:VEVENT
UID:8591843c-ea30-4368-b570-92307cdbf65d
DTSTAMP:20260423T173659Z
DESCRIPTION:
DTSTART;TZID=America/Chicago:20220726T140000
DTEND;TZID=America/Chicago:20220726T150000
LOCATION:
SUMMARY:Simply Fit
END:VEVENT
END:VCALENDAR
