BEGIN:VCALENDAR
VERSION:2.0
PRODID:-//empowercdc.org//NONSGML kigkonsult.se iCalcreator 2.30.10//
CALSCALE:GREGORIAN
METHOD:PUBLISH
UID:62aac80b-dd0d-41fa-8480-b4c61a049908
X-WR-CALDESC:
X-WR-RELCALID:be6f2e1af6230034c64d1a444d2759c0
X-WR-TIMEZONE:America/Chicago
BEGIN:VTIMEZONE
TZID:America/Chicago
BEGIN:STANDARD
TZNAME:CST
DTSTART:20211107T020000
TZOFFSETFROM:-0500
TZOFFSETTO:-0600
RDATE:20221106T020000
RDATE:20231105T020000
END:STANDARD
BEGIN:DAYLIGHT
TZNAME:CDT
DTSTART:20220313T020000
TZOFFSETFROM:-0600
TZOFFSETTO:-0500
RDATE:20230312T020000
END:DAYLIGHT
END:VTIMEZONE
BEGIN:VEVENT
UID:348a3949-0f0e-4cad-adc5-c533facb126f
DTSTAMP:20260423T173748Z
DESCRIPTION:
DTSTART;TZID=America/Chicago:20220719T140000
DTEND;TZID=America/Chicago:20220719T150000
LOCATION:
SUMMARY:Simply Fit
END:VEVENT
END:VCALENDAR
