BEGIN:VCALENDAR
VERSION:2.0
PRODID:-//empowercdc.org//NONSGML kigkonsult.se iCalcreator 2.30.10//
CALSCALE:GREGORIAN
METHOD:PUBLISH
UID:c1a601a7-b3f7-4c14-bffc-a9e978076f64
X-WR-CALDESC:
X-WR-RELCALID:7a7cac59c5623b157f613ca4e1d47061
X-WR-TIMEZONE:America/Chicago
BEGIN:VTIMEZONE
TZID:America/Chicago
BEGIN:STANDARD
TZNAME:CST
DTSTART:20211107T020000
TZOFFSETFROM:-0500
TZOFFSETTO:-0600
RDATE:20221106T020000
RDATE:20231105T020000
END:STANDARD
BEGIN:DAYLIGHT
TZNAME:CDT
DTSTART:20220313T020000
TZOFFSETFROM:-0600
TZOFFSETTO:-0500
RDATE:20230312T020000
END:DAYLIGHT
END:VTIMEZONE
BEGIN:VEVENT
UID:f886689e-11a4-4ff2-881b-c19bc11ae234
DTSTAMP:20260423T173722Z
DESCRIPTION:
DTSTART;TZID=America/Chicago:20220712T140000
DTEND;TZID=America/Chicago:20220712T150000
LOCATION:
SUMMARY:Simply Fit
END:VEVENT
END:VCALENDAR
