BEGIN:VCALENDAR
VERSION:2.0
PRODID:-//empowercdc.org//NONSGML kigkonsult.se iCalcreator 2.30.10//
CALSCALE:GREGORIAN
METHOD:PUBLISH
UID:61b8071f-7bd8-49da-b402-71f54d0bd451
X-WR-CALDESC:
X-WR-RELCALID:02ac0d066bdf437a3ff24ab68d46e5a8
X-WR-TIMEZONE:America/Chicago
BEGIN:VTIMEZONE
TZID:America/Chicago
BEGIN:STANDARD
TZNAME:CST
DTSTART:20211107T020000
TZOFFSETFROM:-0500
TZOFFSETTO:-0600
RDATE:20221106T020000
RDATE:20231105T020000
END:STANDARD
BEGIN:DAYLIGHT
TZNAME:CDT
DTSTART:20220313T020000
TZOFFSETFROM:-0600
TZOFFSETTO:-0500
RDATE:20230312T020000
END:DAYLIGHT
END:VTIMEZONE
BEGIN:VEVENT
UID:873f754a-aeb7-407a-b7c9-a4fc0a85d232
DTSTAMP:20260423T185746Z
DESCRIPTION:
DTSTART;TZID=America/Chicago:20220630T160000
DTEND;TZID=America/Chicago:20220630T170000
LOCATION:
SUMMARY:Exercise-Resident Lead or Jump Rope
END:VEVENT
END:VCALENDAR
