BEGIN:VCALENDAR
VERSION:2.0
PRODID:-//empowercdc.org//NONSGML kigkonsult.se iCalcreator 2.30.10//
CALSCALE:GREGORIAN
METHOD:PUBLISH
UID:ed2ccc2f-cd32-49d3-b711-f84609fbf266
X-WR-CALDESC:
X-WR-RELCALID:25968b77253f68c422f28522cde2553c
X-WR-TIMEZONE:America/Chicago
BEGIN:VTIMEZONE
TZID:America/Chicago
BEGIN:STANDARD
TZNAME:CST
DTSTART:20211107T020000
TZOFFSETFROM:-0500
TZOFFSETTO:-0600
RDATE:20221106T020000
RDATE:20231105T020000
END:STANDARD
BEGIN:DAYLIGHT
TZNAME:CDT
DTSTART:20220313T020000
TZOFFSETFROM:-0600
TZOFFSETTO:-0500
RDATE:20230312T020000
END:DAYLIGHT
END:VTIMEZONE
BEGIN:VEVENT
UID:bf6333df-62a4-4c04-8a6d-eb2079d1e6aa
DTSTAMP:20260423T185347Z
DESCRIPTION:
DTSTART;TZID=America/Chicago:20220628T140000
DTEND;TZID=America/Chicago:20220628T150000
LOCATION:
SUMMARY:Simply Fit
END:VEVENT
END:VCALENDAR
