BEGIN:VCALENDAR
VERSION:2.0
PRODID:-//empowercdc.org//NONSGML kigkonsult.se iCalcreator 2.30.10//
CALSCALE:GREGORIAN
METHOD:PUBLISH
UID:e963ac80-0524-4e5a-89af-340877e89c30
X-WR-CALDESC:
X-WR-RELCALID:73954ec1cc21fddc6b58cf490e53c205
X-WR-TIMEZONE:America/Chicago
BEGIN:VTIMEZONE
TZID:America/Chicago
BEGIN:STANDARD
TZNAME:CST
DTSTART:20211107T020000
TZOFFSETFROM:-0500
TZOFFSETTO:-0600
RDATE:20221106T020000
RDATE:20231105T020000
END:STANDARD
BEGIN:DAYLIGHT
TZNAME:CDT
DTSTART:20220313T020000
TZOFFSETFROM:-0600
TZOFFSETTO:-0500
RDATE:20230312T020000
END:DAYLIGHT
END:VTIMEZONE
BEGIN:VEVENT
UID:65e97af6-fc26-4020-8d52-729f377ac69b
DTSTAMP:20260423T190137Z
DESCRIPTION:
DTSTART;TZID=America/Chicago:20220624T110000
DTEND;TZID=America/Chicago:20220624T120000
LOCATION:
SUMMARY:Sit and Be Fit @ Campanile at Jones Creek
END:VEVENT
END:VCALENDAR
