BEGIN:VCALENDAR
VERSION:2.0
PRODID:-//empowercdc.org//NONSGML kigkonsult.se iCalcreator 2.30.10//
CALSCALE:GREGORIAN
METHOD:PUBLISH
UID:e09d2ea7-7b0d-4f61-b922-3095e956d9a2
X-WR-CALDESC:
X-WR-RELCALID:8d88050e25b7573b7afde39e7df4b101
X-WR-TIMEZONE:America/Chicago
BEGIN:VTIMEZONE
TZID:America/Chicago
BEGIN:STANDARD
TZNAME:CST
DTSTART:20211107T020000
TZOFFSETFROM:-0500
TZOFFSETTO:-0600
RDATE:20221106T020000
RDATE:20231105T020000
END:STANDARD
BEGIN:DAYLIGHT
TZNAME:CDT
DTSTART:20220313T020000
TZOFFSETFROM:-0600
TZOFFSETTO:-0500
RDATE:20230312T020000
END:DAYLIGHT
END:VTIMEZONE
BEGIN:VEVENT
UID:b703b073-7654-45a1-b870-785a158b14ca
DTSTAMP:20260423T191232Z
DESCRIPTION:
DTSTART;TZID=America/Chicago:20220623T160000
DTEND;TZID=America/Chicago:20220623T170000
LOCATION:
SUMMARY:PNC Financial Wellness Teaching Kids Smart Money Choices
END:VEVENT
END:VCALENDAR
