BEGIN:VCALENDAR
VERSION:2.0
PRODID:-//empowercdc.org//NONSGML kigkonsult.se iCalcreator 2.30.10//
CALSCALE:GREGORIAN
METHOD:PUBLISH
UID:a7b965b5-470d-4b1f-97b6-85a74a37998f
X-WR-CALDESC:
X-WR-RELCALID:97df53bc64e4bb1009d9dc8e5d3cee32
X-WR-TIMEZONE:America/Chicago
BEGIN:VTIMEZONE
TZID:America/Chicago
BEGIN:STANDARD
TZNAME:CST
DTSTART:20211107T020000
TZOFFSETFROM:-0500
TZOFFSETTO:-0600
RDATE:20221106T020000
RDATE:20231105T020000
END:STANDARD
BEGIN:DAYLIGHT
TZNAME:CDT
DTSTART:20220313T020000
TZOFFSETFROM:-0600
TZOFFSETTO:-0500
RDATE:20230312T020000
END:DAYLIGHT
END:VTIMEZONE
BEGIN:VEVENT
UID:296672f3-eba2-458f-a7c5-b7fa25c58307
DTSTAMP:20260423T185142Z
DESCRIPTION:
DTSTART;TZID=America/Chicago:20220623T140000
DTEND;TZID=America/Chicago:20220623T150000
LOCATION:
SUMMARY:Food Pantry
END:VEVENT
END:VCALENDAR
