BEGIN:VCALENDAR
VERSION:2.0
PRODID:-//empowercdc.org//NONSGML kigkonsult.se iCalcreator 2.30.10//
CALSCALE:GREGORIAN
METHOD:PUBLISH
UID:b78e66e2-6f80-46f6-8191-eaa248071e9f
X-WR-CALDESC:
X-WR-RELCALID:845259cd48a9184b52698f0dd38c1e7f
X-WR-TIMEZONE:America/Chicago
BEGIN:VTIMEZONE
TZID:America/Chicago
BEGIN:STANDARD
TZNAME:CST
DTSTART:20211107T020000
TZOFFSETFROM:-0500
TZOFFSETTO:-0600
RDATE:20221106T020000
RDATE:20231105T020000
END:STANDARD
BEGIN:DAYLIGHT
TZNAME:CDT
DTSTART:20220313T020000
TZOFFSETFROM:-0600
TZOFFSETTO:-0500
RDATE:20230312T020000
END:DAYLIGHT
END:VTIMEZONE
BEGIN:VEVENT
UID:4dac7479-3831-4c3f-ba27-816fe03c12c4
DTSTAMP:20260423T185858Z
DESCRIPTION:
DTSTART;TZID=America/Chicago:20220623T160000
DTEND;TZID=America/Chicago:20220623T170000
LOCATION:
SUMMARY:Exercise-Resident Lead or Jump Rope
END:VEVENT
END:VCALENDAR
