BEGIN:VCALENDAR
VERSION:2.0
PRODID:-//empowercdc.org//NONSGML kigkonsult.se iCalcreator 2.30.10//
CALSCALE:GREGORIAN
METHOD:PUBLISH
UID:50c2a1e2-833a-4df8-94d5-9656131b6ab0
X-WR-CALDESC:
X-WR-RELCALID:63d3b94a8fe7458ad3e0968ca26497ff
X-WR-TIMEZONE:America/Chicago
BEGIN:VTIMEZONE
TZID:America/Chicago
BEGIN:STANDARD
TZNAME:CST
DTSTART:20211107T020000
TZOFFSETFROM:-0500
TZOFFSETTO:-0600
RDATE:20221106T020000
RDATE:20231105T020000
END:STANDARD
BEGIN:DAYLIGHT
TZNAME:CDT
DTSTART:20220313T020000
TZOFFSETFROM:-0600
TZOFFSETTO:-0500
RDATE:20230312T020000
END:DAYLIGHT
END:VTIMEZONE
BEGIN:VEVENT
UID:d58a217e-d524-486c-85cc-7f9ced88f4f3
DTSTAMP:20260423T185131Z
DESCRIPTION:
DTSTART;TZID=America/Chicago:20220621T140000
DTEND;TZID=America/Chicago:20220621T150000
LOCATION:
SUMMARY:Simply Fit
END:VEVENT
END:VCALENDAR
