BEGIN:VCALENDAR
VERSION:2.0
PRODID:-//empowercdc.org//NONSGML kigkonsult.se iCalcreator 2.30.10//
CALSCALE:GREGORIAN
METHOD:PUBLISH
UID:4d9ae94f-ffb9-4fb7-96db-8703afc3706c
X-WR-CALDESC:
X-WR-RELCALID:9f3d1410d4d7dccfaa424fb03698a6d9
X-WR-TIMEZONE:America/Chicago
BEGIN:VTIMEZONE
TZID:America/Chicago
BEGIN:STANDARD
TZNAME:CST
DTSTART:20211107T020000
TZOFFSETFROM:-0500
TZOFFSETTO:-0600
RDATE:20221106T020000
RDATE:20231105T020000
END:STANDARD
BEGIN:DAYLIGHT
TZNAME:CDT
DTSTART:20220313T020000
TZOFFSETFROM:-0600
TZOFFSETTO:-0500
RDATE:20230312T020000
END:DAYLIGHT
END:VTIMEZONE
BEGIN:VEVENT
UID:cf0d6caf-c377-4d16-babd-cae4842d4cf8
DTSTAMP:20260423T185617Z
DESCRIPTION:
DTSTART;TZID=America/Chicago:20220621T090000
DTEND;TZID=America/Chicago:20220621T100000
LOCATION:Heritage Seniors
SUMMARY:Resident Led Social Gathering
END:VEVENT
END:VCALENDAR
