BEGIN:VCALENDAR
VERSION:2.0
PRODID:-//empowercdc.org//NONSGML kigkonsult.se iCalcreator 2.30.10//
CALSCALE:GREGORIAN
METHOD:PUBLISH
UID:38b337a6-32f7-471f-ba7e-4d1779acf199
X-WR-CALDESC:
X-WR-RELCALID:8b5d5933e20279fc4b872cb698d93272
X-WR-TIMEZONE:America/Chicago
BEGIN:VTIMEZONE
TZID:America/Chicago
BEGIN:STANDARD
TZNAME:CST
DTSTART:20211107T020000
TZOFFSETFROM:-0500
TZOFFSETTO:-0600
RDATE:20221106T020000
RDATE:20231105T020000
END:STANDARD
BEGIN:DAYLIGHT
TZNAME:CDT
DTSTART:20220313T020000
TZOFFSETFROM:-0600
TZOFFSETTO:-0500
RDATE:20230312T020000
END:DAYLIGHT
END:VTIMEZONE
BEGIN:VEVENT
UID:a70de16b-d858-4ece-9015-21718eeec7db
DTSTAMP:20260423T185729Z
DESCRIPTION:
DTSTART;TZID=America/Chicago:20220616T160000
DTEND;TZID=America/Chicago:20220616T170000
LOCATION:
SUMMARY:Exercise-Resident Lead or Jump Rope
END:VEVENT
END:VCALENDAR
