BEGIN:VCALENDAR
VERSION:2.0
PRODID:-//empowercdc.org//NONSGML kigkonsult.se iCalcreator 2.30.10//
CALSCALE:GREGORIAN
METHOD:PUBLISH
UID:2a30e644-200c-42ec-b30d-e41e74e8a0f3
X-WR-CALDESC:
X-WR-RELCALID:1ac8c35983fea97ccbd589a5347ae10c
X-WR-TIMEZONE:America/Chicago
BEGIN:VTIMEZONE
TZID:America/Chicago
BEGIN:STANDARD
TZNAME:CST
DTSTART:20211107T020000
TZOFFSETFROM:-0500
TZOFFSETTO:-0600
RDATE:20221106T020000
RDATE:20231105T020000
END:STANDARD
BEGIN:DAYLIGHT
TZNAME:CDT
DTSTART:20220313T020000
TZOFFSETFROM:-0600
TZOFFSETTO:-0500
RDATE:20230312T020000
END:DAYLIGHT
END:VTIMEZONE
BEGIN:VEVENT
UID:73ff130e-9846-4c08-90d7-84dfe022b92f
DTSTAMP:20260423T185346Z
DESCRIPTION:
DTSTART;TZID=America/Chicago:20220614T140000
DTEND;TZID=America/Chicago:20220614T150000
LOCATION:
SUMMARY:Simply Fit
END:VEVENT
END:VCALENDAR
