BEGIN:VCALENDAR
VERSION:2.0
PRODID:-//empowercdc.org//NONSGML kigkonsult.se iCalcreator 2.30.10//
CALSCALE:GREGORIAN
METHOD:PUBLISH
UID:3c4f2b8e-23b9-4d64-b5f8-d38b917f79f3
X-WR-CALDESC:
X-WR-RELCALID:f5ed4669f03f84db0fc164261e382c8b
X-WR-TIMEZONE:America/Chicago
BEGIN:VTIMEZONE
TZID:America/Chicago
BEGIN:STANDARD
TZNAME:CST
DTSTART:20211107T020000
TZOFFSETFROM:-0500
TZOFFSETTO:-0600
RDATE:20221106T020000
RDATE:20231105T020000
END:STANDARD
BEGIN:DAYLIGHT
TZNAME:CDT
DTSTART:20220313T020000
TZOFFSETFROM:-0600
TZOFFSETTO:-0500
RDATE:20230312T020000
END:DAYLIGHT
END:VTIMEZONE
BEGIN:VEVENT
UID:f6ac9f57-1c2f-4f65-88e3-2af153a130de
DTSTAMP:20260423T185751Z
DESCRIPTION:
DTSTART;TZID=America/Chicago:20220609T160000
DTEND;TZID=America/Chicago:20220609T170000
LOCATION:
SUMMARY:Exercise-Resident Lead or Jump Rope
END:VEVENT
END:VCALENDAR
