BEGIN:VCALENDAR
VERSION:2.0
PRODID:-//empowercdc.org//NONSGML kigkonsult.se iCalcreator 2.30.10//
CALSCALE:GREGORIAN
METHOD:PUBLISH
UID:af5a2141-ecbb-4f52-b1b0-5d2c0f5f580b
X-WR-CALDESC:
X-WR-RELCALID:dfbf2784fcfb904c63bad6f447da2b58
X-WR-TIMEZONE:America/Chicago
BEGIN:VTIMEZONE
TZID:America/Chicago
BEGIN:STANDARD
TZNAME:CST
DTSTART:20211107T020000
TZOFFSETFROM:-0500
TZOFFSETTO:-0600
RDATE:20221106T020000
RDATE:20231105T020000
END:STANDARD
BEGIN:DAYLIGHT
TZNAME:CDT
DTSTART:20220313T020000
TZOFFSETFROM:-0600
TZOFFSETTO:-0500
RDATE:20230312T020000
END:DAYLIGHT
END:VTIMEZONE
BEGIN:VEVENT
UID:2f1cf71f-8e40-41c2-a21b-b4d4d591adca
DTSTAMP:20260423T185730Z
DESCRIPTION:
DTSTART;TZID=America/Chicago:20220602T160000
DTEND;TZID=America/Chicago:20220602T170000
LOCATION:
SUMMARY:Exercise-Resident Lead or Jump Rope
END:VEVENT
END:VCALENDAR
