BEGIN:VCALENDAR
VERSION:2.0
PRODID:-//empowercdc.org//NONSGML kigkonsult.se iCalcreator 2.30.10//
CALSCALE:GREGORIAN
METHOD:PUBLISH
UID:198893c8-cc2f-467b-97c0-a0f682518c75
X-WR-CALDESC:
X-WR-RELCALID:2f064e18d43168f123b2f7d4f59cb4a6
X-WR-TIMEZONE:America/Chicago
BEGIN:VTIMEZONE
TZID:America/Chicago
BEGIN:STANDARD
TZNAME:CST
DTSTART:20211107T020000
TZOFFSETFROM:-0500
TZOFFSETTO:-0600
RDATE:20221106T020000
RDATE:20231105T020000
END:STANDARD
BEGIN:DAYLIGHT
TZNAME:CDT
DTSTART:20220313T020000
TZOFFSETFROM:-0600
TZOFFSETTO:-0500
RDATE:20230312T020000
END:DAYLIGHT
END:VTIMEZONE
BEGIN:VEVENT
UID:1bae18c5-3ac3-4c82-82cf-e22e72e867ce
DTSTAMP:20260423T202108Z
DESCRIPTION:
DTSTART;TZID=America/Chicago:20220517T140000
DTEND;TZID=America/Chicago:20220517T150000
LOCATION:
SUMMARY:Simply Fit
END:VEVENT
END:VCALENDAR
