BEGIN:VCALENDAR
VERSION:2.0
PRODID:-//empowercdc.org//NONSGML kigkonsult.se iCalcreator 2.30.10//
CALSCALE:GREGORIAN
METHOD:PUBLISH
UID:59aee3ce-a1e9-45f0-a179-8bf5d7e10958
X-WR-CALDESC:
X-WR-RELCALID:8ab8a7ca225c92bb92bc36279c6673c7
X-WR-TIMEZONE:America/Chicago
BEGIN:VTIMEZONE
TZID:America/Chicago
BEGIN:STANDARD
TZNAME:CST
DTSTART:20211107T020000
TZOFFSETFROM:-0500
TZOFFSETTO:-0600
RDATE:20221106T020000
RDATE:20231105T020000
END:STANDARD
BEGIN:DAYLIGHT
TZNAME:CDT
DTSTART:20220313T020000
TZOFFSETFROM:-0600
TZOFFSETTO:-0500
RDATE:20230312T020000
END:DAYLIGHT
END:VTIMEZONE
BEGIN:VEVENT
UID:b7ab98f1-26c6-4b13-b95d-4690c7b6165d
DTSTAMP:20260423T202053Z
DESCRIPTION:
DTSTART;TZID=America/Chicago:20220510T140000
DTEND;TZID=America/Chicago:20220510T150000
LOCATION:
SUMMARY:Simply Fit
END:VEVENT
END:VCALENDAR
