BEGIN:VCALENDAR
VERSION:2.0
PRODID:-//empowercdc.org//NONSGML kigkonsult.se iCalcreator 2.30.10//
CALSCALE:GREGORIAN
METHOD:PUBLISH
UID:6bbd519b-2c2a-4ff1-abf5-a3a8074249d3
X-WR-CALDESC:
X-WR-RELCALID:15fa19205e075843c8fd90397a595bdc
X-WR-TIMEZONE:America/Chicago
BEGIN:VTIMEZONE
TZID:America/Chicago
BEGIN:STANDARD
TZNAME:CST
DTSTART:20211107T020000
TZOFFSETFROM:-0500
TZOFFSETTO:-0600
RDATE:20221106T020000
END:STANDARD
BEGIN:DAYLIGHT
TZNAME:CDT
DTSTART:20220313T020000
TZOFFSETFROM:-0600
TZOFFSETTO:-0500
RDATE:20230312T020000
END:DAYLIGHT
END:VTIMEZONE
BEGIN:VEVENT
UID:e850024e-5ed0-4c52-bc24-b090da4fba10
DTSTAMP:20260423T202010Z
DESCRIPTION:
DTSTART;TZID=America/Chicago:20220503T140000
DTEND;TZID=America/Chicago:20220503T150000
LOCATION:
SUMMARY:Simply Fit
END:VEVENT
END:VCALENDAR
