BEGIN:VCALENDAR
VERSION:2.0
PRODID:-//empowercdc.org//NONSGML kigkonsult.se iCalcreator 2.30.10//
CALSCALE:GREGORIAN
METHOD:PUBLISH
UID:d775936b-6fff-48bc-8170-6cc43b8a16c8
X-WR-CALDESC:
X-WR-RELCALID:a7382454f793532505804ce0648631c3
X-WR-TIMEZONE:America/Chicago
BEGIN:VTIMEZONE
TZID:America/Chicago
BEGIN:STANDARD
TZNAME:CST
DTSTART:20211107T020000
TZOFFSETFROM:-0500
TZOFFSETTO:-0600
RDATE:20221106T020000
END:STANDARD
BEGIN:DAYLIGHT
TZNAME:CDT
DTSTART:20220313T020000
TZOFFSETFROM:-0600
TZOFFSETTO:-0500
RDATE:20230312T020000
END:DAYLIGHT
END:VTIMEZONE
BEGIN:VEVENT
UID:7eac3eb1-2483-4c00-805b-cd2f5cc82f23
DTSTAMP:20260423T215330Z
DESCRIPTION:
DTSTART;TZID=America/Chicago:20220429T110000
DTEND;TZID=America/Chicago:20220429T120000
LOCATION:
SUMMARY:Sit and Be Fit @ Campanile at Jones Creek
END:VEVENT
END:VCALENDAR
