BEGIN:VCALENDAR
VERSION:2.0
PRODID:-//empowercdc.org//NONSGML kigkonsult.se iCalcreator 2.30.10//
CALSCALE:GREGORIAN
METHOD:PUBLISH
UID:f54248e1-ba11-4c6f-a8c1-c3826326a7f3
X-WR-CALDESC:
X-WR-RELCALID:bc838df788167e506992e39b4b530320
X-WR-TIMEZONE:America/Chicago
BEGIN:VTIMEZONE
TZID:America/Chicago
BEGIN:STANDARD
TZNAME:CST
DTSTART:20211107T020000
TZOFFSETFROM:-0500
TZOFFSETTO:-0600
RDATE:20221106T020000
END:STANDARD
BEGIN:DAYLIGHT
TZNAME:CDT
DTSTART:20220313T020000
TZOFFSETFROM:-0600
TZOFFSETTO:-0500
RDATE:20230312T020000
END:DAYLIGHT
END:VTIMEZONE
BEGIN:VEVENT
UID:ae266873-2a27-474f-b8e2-55e22da78776
DTSTAMP:20260423T214541Z
DESCRIPTION:
DTSTART;TZID=America/Chicago:20220426T140000
DTEND;TZID=America/Chicago:20220426T150000
LOCATION:
SUMMARY:Simply Fit
END:VEVENT
END:VCALENDAR
