BEGIN:VCALENDAR
VERSION:2.0
PRODID:-//empowercdc.org//NONSGML kigkonsult.se iCalcreator 2.30.10//
CALSCALE:GREGORIAN
METHOD:PUBLISH
UID:251bcdc6-418b-4e67-998e-644f54765e99
X-WR-CALDESC:
X-WR-RELCALID:05815337edaf9d45c4a952ba3c0fef19
X-WR-TIMEZONE:America/Chicago
BEGIN:VTIMEZONE
TZID:America/Chicago
BEGIN:STANDARD
TZNAME:CST
DTSTART:20211107T020000
TZOFFSETFROM:-0500
TZOFFSETTO:-0600
RDATE:20221106T020000
END:STANDARD
BEGIN:DAYLIGHT
TZNAME:CDT
DTSTART:20220313T020000
TZOFFSETFROM:-0600
TZOFFSETTO:-0500
RDATE:20230312T020000
END:DAYLIGHT
END:VTIMEZONE
BEGIN:VEVENT
UID:91da9380-c569-4206-80bc-2691e0eb473f
DTSTAMP:20260423T214717Z
DESCRIPTION:
DTSTART;TZID=America/Chicago:20220419T140000
DTEND;TZID=America/Chicago:20220419T150000
LOCATION:
SUMMARY:Simply Fit
END:VEVENT
END:VCALENDAR
