BEGIN:VCALENDAR
VERSION:2.0
PRODID:-//empowercdc.org//NONSGML kigkonsult.se iCalcreator 2.30.10//
CALSCALE:GREGORIAN
METHOD:PUBLISH
UID:839db81c-137a-40a9-9006-2d39c7a4a9d3
X-WR-CALDESC:
X-WR-RELCALID:efbde29836aa74152baa5c11ae93be28
X-WR-TIMEZONE:America/Chicago
BEGIN:VTIMEZONE
TZID:America/Chicago
BEGIN:STANDARD
TZNAME:CST
DTSTART:20211107T020000
TZOFFSETFROM:-0500
TZOFFSETTO:-0600
RDATE:20221106T020000
END:STANDARD
BEGIN:DAYLIGHT
TZNAME:CDT
DTSTART:20220313T020000
TZOFFSETFROM:-0600
TZOFFSETTO:-0500
RDATE:20230312T020000
END:DAYLIGHT
END:VTIMEZONE
BEGIN:VEVENT
UID:d5b33470-b3b6-4134-af1c-561ddb31a474
DTSTAMP:20260423T214623Z
DESCRIPTION:
DTSTART;TZID=America/Chicago:20220412T140000
DTEND;TZID=America/Chicago:20220412T150000
LOCATION:
SUMMARY:Simply Fit
END:VEVENT
END:VCALENDAR
