BEGIN:VCALENDAR
VERSION:2.0
PRODID:-//empowercdc.org//NONSGML kigkonsult.se iCalcreator 2.30.10//
CALSCALE:GREGORIAN
METHOD:PUBLISH
UID:35e8b4fa-57e6-4fb2-90ef-4a9414f605c6
X-WR-CALDESC:
X-WR-RELCALID:189ee541dee8cccf624f3c4694f609c0
X-WR-TIMEZONE:America/Chicago
BEGIN:VTIMEZONE
TZID:America/Chicago
BEGIN:STANDARD
TZNAME:CST
DTSTART:20211107T020000
TZOFFSETFROM:-0500
TZOFFSETTO:-0600
RDATE:20221106T020000
END:STANDARD
BEGIN:DAYLIGHT
TZNAME:CDT
DTSTART:20220313T020000
TZOFFSETFROM:-0600
TZOFFSETTO:-0500
RDATE:20230312T020000
END:DAYLIGHT
END:VTIMEZONE
BEGIN:VEVENT
UID:9178e3cb-6e23-4cac-bb17-1dbd4234c599
DTSTAMP:20260423T230428Z
DESCRIPTION:
DTSTART;TZID=America/Chicago:20220329T140000
DTEND;TZID=America/Chicago:20220329T150000
LOCATION:
SUMMARY:Simply Fit
END:VEVENT
END:VCALENDAR
