BEGIN:VCALENDAR
VERSION:2.0
PRODID:-//empowercdc.org//NONSGML kigkonsult.se iCalcreator 2.30.10//
CALSCALE:GREGORIAN
METHOD:PUBLISH
UID:a18f056e-2f58-4e79-96ac-b2e315a2bd5f
X-WR-CALDESC:
X-WR-RELCALID:15bb9d1831078824f9fe1a0716048abf
X-WR-TIMEZONE:America/Chicago
BEGIN:VTIMEZONE
TZID:America/Chicago
BEGIN:STANDARD
TZNAME:CST
DTSTART:20211107T020000
TZOFFSETFROM:-0500
TZOFFSETTO:-0600
RDATE:20221106T020000
END:STANDARD
BEGIN:DAYLIGHT
TZNAME:CDT
DTSTART:20220313T020000
TZOFFSETFROM:-0600
TZOFFSETTO:-0500
RDATE:20230312T020000
END:DAYLIGHT
END:VTIMEZONE
BEGIN:VEVENT
UID:ca44c043-beab-4f12-a4eb-ec3cd91515a8
DTSTAMP:20260423T230508Z
DESCRIPTION:
DTSTART;TZID=America/Chicago:20220322T140000
DTEND;TZID=America/Chicago:20220322T150000
LOCATION:
SUMMARY:Simply Fit
END:VEVENT
END:VCALENDAR
