BEGIN:VCALENDAR
VERSION:2.0
PRODID:-//empowercdc.org//NONSGML kigkonsult.se iCalcreator 2.30.10//
CALSCALE:GREGORIAN
METHOD:PUBLISH
UID:399c05fd-9fc8-419b-95a6-989409f9c23f
X-WR-CALDESC:
X-WR-RELCALID:a7ff505c7fcacdc6e89f8c323ca7316c
X-WR-TIMEZONE:America/Chicago
BEGIN:VTIMEZONE
TZID:America/Chicago
BEGIN:STANDARD
TZNAME:CST
DTSTART:20211107T020000
TZOFFSETFROM:-0500
TZOFFSETTO:-0600
RDATE:20221106T020000
END:STANDARD
BEGIN:DAYLIGHT
TZNAME:CDT
DTSTART:20210314T020000
TZOFFSETFROM:-0600
TZOFFSETTO:-0500
RDATE:20220313T020000
RDATE:20230312T020000
END:DAYLIGHT
END:VTIMEZONE
BEGIN:VEVENT
UID:f2735501-1439-4d1a-9502-68862f841199
DTSTAMP:20260423T230427Z
DESCRIPTION:
DTSTART;TZID=America/Chicago:20220308T140000
DTEND;TZID=America/Chicago:20220308T150000
LOCATION:
SUMMARY:Simply Fit
END:VEVENT
END:VCALENDAR
