BEGIN:VCALENDAR
VERSION:2.0
PRODID:-//empowercdc.org//NONSGML kigkonsult.se iCalcreator 2.30.10//
CALSCALE:GREGORIAN
METHOD:PUBLISH
UID:39fe272c-185d-4b6f-841b-eaa2f6efef7c
X-WR-CALDESC:
X-WR-RELCALID:e6cb5826a8113ebc3354aa1602c44e4e
X-WR-TIMEZONE:America/Chicago
BEGIN:VTIMEZONE
TZID:America/Chicago
BEGIN:STANDARD
TZNAME:CST
DTSTART:20211107T020000
TZOFFSETFROM:-0500
TZOFFSETTO:-0600
RDATE:20221106T020000
END:STANDARD
BEGIN:DAYLIGHT
TZNAME:CDT
DTSTART:20210314T020000
TZOFFSETFROM:-0600
TZOFFSETTO:-0500
RDATE:20220313T020000
RDATE:20230312T020000
END:DAYLIGHT
END:VTIMEZONE
BEGIN:VEVENT
UID:b80b6990-c417-432f-9172-18d102df1030
DTSTAMP:20260423T231230Z
DESCRIPTION:
DTSTART;TZID=America/Chicago:20220304T110000
DTEND;TZID=America/Chicago:20220304T120000
LOCATION:
SUMMARY:Sit and Be Fit @ Campanile at Jones Creek
END:VEVENT
END:VCALENDAR
