BEGIN:VCALENDAR
VERSION:2.0
PRODID:-//empowercdc.org//NONSGML kigkonsult.se iCalcreator 2.30.10//
CALSCALE:GREGORIAN
METHOD:PUBLISH
UID:a3d9c441-f9a1-485e-b084-f5d29bc67e5c
X-WR-CALDESC:
X-WR-RELCALID:3c27f50412a5d6f6722201c3fe071527
X-WR-TIMEZONE:America/Chicago
BEGIN:VTIMEZONE
TZID:America/Chicago
BEGIN:STANDARD
TZNAME:CST
DTSTART:20211107T020000
TZOFFSETFROM:-0500
TZOFFSETTO:-0600
RDATE:20221106T020000
END:STANDARD
BEGIN:DAYLIGHT
TZNAME:CDT
DTSTART:20210314T020000
TZOFFSETFROM:-0600
TZOFFSETTO:-0500
RDATE:20220313T020000
RDATE:20230312T020000
END:DAYLIGHT
END:VTIMEZONE
BEGIN:VEVENT
UID:584ee2df-5ea8-4aa4-ad17-9be0eeb16693
DTSTAMP:20260423T230333Z
DESCRIPTION:
DTSTART;TZID=America/Chicago:20220301T140000
DTEND;TZID=America/Chicago:20220301T150000
LOCATION:
SUMMARY:Simply Fit
END:VEVENT
END:VCALENDAR
