BEGIN:VCALENDAR
VERSION:2.0
PRODID:-//empowercdc.org//NONSGML kigkonsult.se iCalcreator 2.30.10//
CALSCALE:GREGORIAN
METHOD:PUBLISH
UID:9434c268-d9fd-48b7-86b6-e7f164c78dd9
X-WR-CALDESC:
X-WR-RELCALID:60938c64323dc5501d5b8edfc5bee050
X-WR-TIMEZONE:America/Chicago
BEGIN:VTIMEZONE
TZID:America/Chicago
BEGIN:STANDARD
TZNAME:CST
DTSTART:20211107T020000
TZOFFSETFROM:-0500
TZOFFSETTO:-0600
RDATE:20221106T020000
END:STANDARD
BEGIN:DAYLIGHT
TZNAME:CDT
DTSTART:20210314T020000
TZOFFSETFROM:-0600
TZOFFSETTO:-0500
RDATE:20220313T020000
RDATE:20230312T020000
END:DAYLIGHT
END:VTIMEZONE
BEGIN:VEVENT
UID:d667fd2a-12c5-46d9-bad2-3c2afd1aab8d
DTSTAMP:20260423T230301Z
DESCRIPTION:
DTSTART;TZID=America/Chicago:20220301T090000
DTEND;TZID=America/Chicago:20220301T100000
LOCATION:
SUMMARY:Mindful Moment Exercise
END:VEVENT
END:VCALENDAR
