BEGIN:VCALENDAR
VERSION:2.0
PRODID:-//empowercdc.org//NONSGML kigkonsult.se iCalcreator 2.30.10//
CALSCALE:GREGORIAN
METHOD:PUBLISH
UID:68fe3b74-86e3-4473-a21d-a26bdf64297d
X-WR-CALDESC:
X-WR-RELCALID:25c95a51145b3f16b61e70f0fdef331a
X-WR-TIMEZONE:America/Chicago
BEGIN:VTIMEZONE
TZID:America/Chicago
BEGIN:STANDARD
TZNAME:CST
DTSTART:20211107T020000
TZOFFSETFROM:-0500
TZOFFSETTO:-0600
RDATE:20221106T020000
END:STANDARD
BEGIN:DAYLIGHT
TZNAME:CDT
DTSTART:20210314T020000
TZOFFSETFROM:-0600
TZOFFSETTO:-0500
RDATE:20220313T020000
RDATE:20230312T020000
END:DAYLIGHT
END:VTIMEZONE
BEGIN:VEVENT
UID:0ec63297-cdc3-4b33-a1d4-8005b176854f
DTSTAMP:20260424T004713Z
DESCRIPTION:
DTSTART;TZID=America/Chicago:20220228T120000
DTEND;TZID=America/Chicago:20220228T130000
LOCATION:
SUMMARY:Meet & Greet/Birthday Celebration @ Campanile at Jones Creek
END:VEVENT
END:VCALENDAR
