BEGIN:VCALENDAR
VERSION:2.0
PRODID:-//empowercdc.org//NONSGML kigkonsult.se iCalcreator 2.30.10//
CALSCALE:GREGORIAN
METHOD:PUBLISH
UID:1f3c473e-6443-4fe3-8415-22b12a3e48ab
X-WR-CALDESC:
X-WR-RELCALID:cf906b8486f6f60ad45c1b6a8765517a
X-WR-TIMEZONE:America/Chicago
BEGIN:VTIMEZONE
TZID:America/Chicago
BEGIN:STANDARD
TZNAME:CST
DTSTART:20211107T020000
TZOFFSETFROM:-0500
TZOFFSETTO:-0600
RDATE:20221106T020000
END:STANDARD
BEGIN:DAYLIGHT
TZNAME:CDT
DTSTART:20210314T020000
TZOFFSETFROM:-0600
TZOFFSETTO:-0500
RDATE:20220313T020000
RDATE:20230312T020000
END:DAYLIGHT
END:VTIMEZONE
BEGIN:VEVENT
UID:6bb47c4c-0b9a-4397-b6ac-dd9af934b1f3
DTSTAMP:20260424T004646Z
DESCRIPTION:
DTSTART;TZID=America/Chicago:20220225T120000
DTEND;TZID=America/Chicago:20220225T130000
LOCATION:
SUMMARY:Jewelry Making @ Campanile at Jones Creek
END:VEVENT
END:VCALENDAR
