BEGIN:VCALENDAR
VERSION:2.0
PRODID:-//empowercdc.org//NONSGML kigkonsult.se iCalcreator 2.30.10//
CALSCALE:GREGORIAN
METHOD:PUBLISH
UID:e8621a79-8f7d-4c74-8819-c9d030666a42
X-WR-CALDESC:
X-WR-RELCALID:fc579dade631523f3193a6c5db1875f4
X-WR-TIMEZONE:America/Chicago
BEGIN:VTIMEZONE
TZID:America/Chicago
BEGIN:STANDARD
TZNAME:CST
DTSTART:20211107T020000
TZOFFSETFROM:-0500
TZOFFSETTO:-0600
RDATE:20221106T020000
END:STANDARD
BEGIN:DAYLIGHT
TZNAME:CDT
DTSTART:20210314T020000
TZOFFSETFROM:-0600
TZOFFSETTO:-0500
RDATE:20220313T020000
RDATE:20230312T020000
END:DAYLIGHT
END:VTIMEZONE
BEGIN:VEVENT
UID:aa0a3a4d-1e1c-4a03-a9b7-2005136f1c43
DTSTAMP:20260424T003158Z
DESCRIPTION:
DTSTART;TZID=America/Chicago:20220222T140000
DTEND;TZID=America/Chicago:20220222T150000
LOCATION:
SUMMARY:Simply Fit
END:VEVENT
END:VCALENDAR
