BEGIN:VCALENDAR
VERSION:2.0
PRODID:-//empowercdc.org//NONSGML kigkonsult.se iCalcreator 2.30.10//
CALSCALE:GREGORIAN
METHOD:PUBLISH
UID:042e039a-1582-4cc5-bdac-eeddc7c06c9a
X-WR-CALDESC:
X-WR-RELCALID:401380cd713d456437cbcd9454bcc312
X-WR-TIMEZONE:America/Chicago
BEGIN:VTIMEZONE
TZID:America/Chicago
BEGIN:STANDARD
TZNAME:CST
DTSTART:20211107T020000
TZOFFSETFROM:-0500
TZOFFSETTO:-0600
RDATE:20221106T020000
END:STANDARD
BEGIN:DAYLIGHT
TZNAME:CDT
DTSTART:20210314T020000
TZOFFSETFROM:-0600
TZOFFSETTO:-0500
RDATE:20220313T020000
RDATE:20230312T020000
END:DAYLIGHT
END:VTIMEZONE
BEGIN:VEVENT
UID:ad83ed6b-ea9d-4732-97e7-15ae6e59f64d
DTSTAMP:20260424T004431Z
DESCRIPTION:
DTSTART;TZID=America/Chicago:20220217T140000
DTEND;TZID=America/Chicago:20220217T150000
LOCATION:
SUMMARY:Food Pantry @ The Heritage Multifamily
END:VEVENT
END:VCALENDAR
