BEGIN:VCALENDAR
VERSION:2.0
PRODID:-//empowercdc.org//NONSGML kigkonsult.se iCalcreator 2.30.10//
CALSCALE:GREGORIAN
METHOD:PUBLISH
UID:ade72b0b-402b-4af8-bc11-1be99b412546
X-WR-CALDESC:
X-WR-RELCALID:1c9bd4eab25ac25b3068e6c4bd92455f
X-WR-TIMEZONE:America/Chicago
BEGIN:VTIMEZONE
TZID:America/Chicago
BEGIN:STANDARD
TZNAME:CST
DTSTART:20211107T020000
TZOFFSETFROM:-0500
TZOFFSETTO:-0600
RDATE:20221106T020000
END:STANDARD
BEGIN:DAYLIGHT
TZNAME:CDT
DTSTART:20210314T020000
TZOFFSETFROM:-0600
TZOFFSETTO:-0500
RDATE:20220313T020000
RDATE:20230312T020000
END:DAYLIGHT
END:VTIMEZONE
BEGIN:VEVENT
UID:128424e7-d1d1-42c1-a1e3-9f4dbe1ac21d
DTSTAMP:20260424T004610Z
DESCRIPTION:
DTSTART;TZID=America/Chicago:20220208T130000
DTEND;TZID=America/Chicago:20220208T140000
LOCATION:
SUMMARY:Arts and Crafts: A Masterpiece in the Making
END:VEVENT
END:VCALENDAR
