BEGIN:VCALENDAR
VERSION:2.0
PRODID:-//empowercdc.org//NONSGML kigkonsult.se iCalcreator 2.30.10//
CALSCALE:GREGORIAN
METHOD:PUBLISH
UID:7ba3a8a7-90d2-469e-b46c-aecfc0730774
X-WR-CALDESC:
X-WR-RELCALID:ad9add2388ec925c67e37829a427ab8d
X-WR-TIMEZONE:America/Chicago
BEGIN:VTIMEZONE
TZID:America/Chicago
BEGIN:STANDARD
TZNAME:CST
DTSTART:20211107T020000
TZOFFSETFROM:-0500
TZOFFSETTO:-0600
RDATE:20221106T020000
END:STANDARD
BEGIN:DAYLIGHT
TZNAME:CDT
DTSTART:20210314T020000
TZOFFSETFROM:-0600
TZOFFSETTO:-0500
RDATE:20220313T020000
RDATE:20230312T020000
END:DAYLIGHT
END:VTIMEZONE
BEGIN:VEVENT
UID:a4061d66-db43-40d3-ba00-3ac76c000183
DTSTAMP:20260424T015251Z
DESCRIPTION:
DTSTART;TZID=America/Chicago:20220125T140000
DTEND;TZID=America/Chicago:20220125T150000
LOCATION:
SUMMARY:Simply Fit
END:VEVENT
END:VCALENDAR
