BEGIN:VCALENDAR
VERSION:2.0
PRODID:-//empowercdc.org//NONSGML kigkonsult.se iCalcreator 2.30.10//
CALSCALE:GREGORIAN
METHOD:PUBLISH
UID:dda86a97-c097-4a2a-8fa0-0845d19b6b4e
X-WR-CALDESC:
X-WR-RELCALID:331d22593cc20b26a8aa0e80e5b24a96
X-WR-TIMEZONE:America/Chicago
BEGIN:VTIMEZONE
TZID:America/Chicago
BEGIN:STANDARD
TZNAME:CST
DTSTART:20211107T020000
TZOFFSETFROM:-0500
TZOFFSETTO:-0600
RDATE:20221106T020000
END:STANDARD
BEGIN:DAYLIGHT
TZNAME:CDT
DTSTART:20210314T020000
TZOFFSETFROM:-0600
TZOFFSETTO:-0500
RDATE:20220313T020000
RDATE:20230312T020000
END:DAYLIGHT
END:VTIMEZONE
BEGIN:VEVENT
UID:7d53a484-d5a9-4e26-a0b9-55f1254d85f0
DTSTAMP:20260424T015110Z
DESCRIPTION:
DTSTART;TZID=America/Chicago:20220118T090000
DTEND;TZID=America/Chicago:20220118T100000
LOCATION:
SUMMARY:Mindful Moment Exercise
END:VEVENT
END:VCALENDAR
