BEGIN:VCALENDAR
VERSION:2.0
PRODID:-//empowercdc.org//NONSGML kigkonsult.se iCalcreator 2.30.10//
CALSCALE:GREGORIAN
METHOD:PUBLISH
UID:c9435e71-4b4e-4597-a3cd-5ee285f28cae
X-WR-CALDESC:
X-WR-RELCALID:f80fddd2e34b568df4c3f359423accaa
X-WR-TIMEZONE:America/Chicago
BEGIN:VTIMEZONE
TZID:America/Chicago
BEGIN:STANDARD
TZNAME:CST
DTSTART:20211107T020000
TZOFFSETFROM:-0500
TZOFFSETTO:-0600
RDATE:20221106T020000
END:STANDARD
BEGIN:DAYLIGHT
TZNAME:CDT
DTSTART:20210314T020000
TZOFFSETFROM:-0600
TZOFFSETTO:-0500
RDATE:20220313T020000
RDATE:20230312T020000
END:DAYLIGHT
END:VTIMEZONE
BEGIN:VEVENT
UID:3363ad48-9467-4262-99e3-668e9d2cad47
DTSTAMP:20260424T015252Z
DESCRIPTION:
DTSTART;TZID=America/Chicago:20220111T140000
DTEND;TZID=America/Chicago:20220111T150000
LOCATION:
SUMMARY:Simply Fit
END:VEVENT
END:VCALENDAR
