BEGIN:VCALENDAR
VERSION:2.0
PRODID:-//empowercdc.org//NONSGML kigkonsult.se iCalcreator 2.30.10//
CALSCALE:GREGORIAN
METHOD:PUBLISH
UID:2cb407ec-2d2b-4e96-98fc-e93ae240cac5
X-WR-CALDESC:
X-WR-RELCALID:bb32bdb78fb0ed33d29ac49a5240d980
X-WR-TIMEZONE:America/Chicago
BEGIN:VTIMEZONE
TZID:America/Chicago
BEGIN:STANDARD
TZNAME:CST
DTSTART:20211107T020000
TZOFFSETFROM:-0500
TZOFFSETTO:-0600
RDATE:20221106T020000
END:STANDARD
BEGIN:DAYLIGHT
TZNAME:CDT
DTSTART:20210314T020000
TZOFFSETFROM:-0600
TZOFFSETTO:-0500
RDATE:20220313T020000
RDATE:20230312T020000
END:DAYLIGHT
END:VTIMEZONE
BEGIN:VEVENT
UID:66b6f691-1cc0-4803-a5b0-fff8cd4f4947
DTSTAMP:20260424T015738Z
DESCRIPTION:
DTSTART;TZID=America/Chicago:20220111T130000
DTEND;TZID=America/Chicago:20220111T140000
LOCATION:
SUMMARY:Arts and Crafts: A Masterpiece in the Making
END:VEVENT
END:VCALENDAR
