BEGIN:VCALENDAR
VERSION:2.0
PRODID:-//empowercdc.org//NONSGML kigkonsult.se iCalcreator 2.30.10//
CALSCALE:GREGORIAN
METHOD:PUBLISH
UID:ca18f769-9638-48df-9b07-732a654db347
X-WR-CALDESC:Simply Fit.. Virtual Videos of Beginners Workouts
X-WR-RELCALID:a30391a7b61eeea3f26da9071a1ab063
X-WR-TIMEZONE:America/Chicago
BEGIN:VTIMEZONE
TZID:America/Chicago
BEGIN:STANDARD
TZNAME:CST
DTSTART:20211107T020000
TZOFFSETFROM:-0500
TZOFFSETTO:-0600
RDATE:20221106T020000
END:STANDARD
BEGIN:DAYLIGHT
TZNAME:CDT
DTSTART:20210314T020000
TZOFFSETFROM:-0600
TZOFFSETTO:-0500
RDATE:20220313T020000
RDATE:20230312T020000
END:DAYLIGHT
END:VTIMEZONE
BEGIN:VEVENT
UID:01694f12-5c59-4331-8472-045485f16e0f
DTSTAMP:20260424T015147Z
DESCRIPTION:Simply Fit.. Virtual Videos of Beginners Workouts
DTSTART;TZID=America/Chicago:20220107T110000
DTEND;TZID=America/Chicago:20220107T120000
LOCATION:
SUMMARY:Exercise: Virtual Simply Fit
END:VEVENT
END:VCALENDAR
