BEGIN:VCALENDAR
VERSION:2.0
PRODID:-//empowercdc.org//NONSGML kigkonsult.se iCalcreator 2.30.10//
CALSCALE:GREGORIAN
METHOD:PUBLISH
UID:e360e85a-79bf-4bc1-895e-293b285020e0
X-WR-CALDESC:The Kid's Reading Room is back opened and ready to read storie
 s to the youth!
X-WR-RELCALID:bdb5034876e81f9a2d08ad7d2da8e0a0
X-WR-TIMEZONE:America/Chicago
BEGIN:VTIMEZONE
TZID:America/Chicago
BEGIN:STANDARD
TZNAME:CST
DTSTART:20211107T020000
TZOFFSETFROM:-0500
TZOFFSETTO:-0600
RDATE:20221106T020000
END:STANDARD
BEGIN:DAYLIGHT
TZNAME:CDT
DTSTART:20210314T020000
TZOFFSETFROM:-0600
TZOFFSETTO:-0500
RDATE:20220313T020000
RDATE:20230312T020000
END:DAYLIGHT
END:VTIMEZONE
BEGIN:VEVENT
UID:cadc03c8-eb28-477d-a1b0-351e133acc7c
DTSTAMP:20260424T015402Z
DESCRIPTION:The Kid's Reading Room is back opened and ready to read stories
  to the youth!
DTSTART;TZID=America/Chicago:20220105T160000
DTEND;TZID=America/Chicago:20220105T173000
LOCATION:
SUMMARY:The Kid's Reading Room
END:VEVENT
END:VCALENDAR
