BEGIN:VCALENDAR
VERSION:2.0
PRODID:-//empowercdc.org//NONSGML kigkonsult.se iCalcreator 2.30.10//
CALSCALE:GREGORIAN
METHOD:PUBLISH
UID:928294ec-c29d-4c6e-9f65-1901f1f8f009
X-WR-CALDESC:
X-WR-RELCALID:66c185beaad27b063e7e8d9842d500b2
X-WR-TIMEZONE:America/Chicago
BEGIN:VTIMEZONE
TZID:America/Chicago
BEGIN:STANDARD
TZNAME:CST
DTSTART:20211107T020000
TZOFFSETFROM:-0500
TZOFFSETTO:-0600
RDATE:20221106T020000
END:STANDARD
BEGIN:DAYLIGHT
TZNAME:CDT
DTSTART:20210314T020000
TZOFFSETFROM:-0600
TZOFFSETTO:-0500
RDATE:20220313T020000
RDATE:20230312T020000
END:DAYLIGHT
END:VTIMEZONE
BEGIN:VEVENT
UID:e2c02546-52fd-4440-9e34-49136b0a29a5
DTSTAMP:20260424T015324Z
DESCRIPTION:
DTSTART;TZID=America/Chicago:20220104T140000
DTEND;TZID=America/Chicago:20220104T150000
LOCATION:
SUMMARY:Simply Fit
END:VEVENT
END:VCALENDAR
