BEGIN:VCALENDAR
VERSION:2.0
PRODID:-//empowercdc.org//NONSGML kigkonsult.se iCalcreator 2.30.10//
CALSCALE:GREGORIAN
METHOD:PUBLISH
UID:97c7ba8f-9c0a-4bfb-9973-2d9c72bb7adb
X-WR-CALDESC:
X-WR-RELCALID:706ec308223e58065f7ffc21db1e8ee1
X-WR-TIMEZONE:America/Chicago
BEGIN:VTIMEZONE
TZID:America/Chicago
BEGIN:STANDARD
TZNAME:CST
DTSTART:20211107T020000
TZOFFSETFROM:-0500
TZOFFSETTO:-0600
RDATE:20221106T020000
END:STANDARD
BEGIN:DAYLIGHT
TZNAME:CDT
DTSTART:20210314T020000
TZOFFSETFROM:-0600
TZOFFSETTO:-0500
RDATE:20220313T020000
RDATE:20230312T020000
END:DAYLIGHT
END:VTIMEZONE
BEGIN:VEVENT
UID:f97dd53c-3f34-4702-9a32-33d9c6f2f4b4
DTSTAMP:20260424T015531Z
DESCRIPTION:
DTSTART;TZID=America/Chicago:20220104T090000
DTEND;TZID=America/Chicago:20220104T100000
LOCATION:Heritage Seniors
SUMMARY:Resident Led Social Gathering
END:VEVENT
END:VCALENDAR
