BEGIN:VCALENDAR
VERSION:2.0
PRODID:-//empowercdc.org//NONSGML kigkonsult.se iCalcreator 2.30.10//
CALSCALE:GREGORIAN
METHOD:PUBLISH
UID:5d28a0f2-aabd-40ea-aa11-a9f27e53caa3
X-WR-CALDESC:
X-WR-RELCALID:9a5808de13008e1919a0d6fa9417b84d
X-WR-TIMEZONE:America/Chicago
BEGIN:VTIMEZONE
TZID:America/Chicago
BEGIN:STANDARD
TZNAME:CST
DTSTART:20211107T020000
TZOFFSETFROM:-0500
TZOFFSETTO:-0600
RDATE:20221106T020000
END:STANDARD
BEGIN:DAYLIGHT
TZNAME:CDT
DTSTART:20210314T020000
TZOFFSETFROM:-0600
TZOFFSETTO:-0500
RDATE:20220313T020000
RDATE:20230312T020000
END:DAYLIGHT
END:VTIMEZONE
BEGIN:VEVENT
UID:6085b952-2256-404e-b8d9-885794bc9fe5
DTSTAMP:20260424T031400Z
DESCRIPTION:
DTSTART;TZID=America/Chicago:20211228T140000
DTEND;TZID=America/Chicago:20211228T150000
LOCATION:
SUMMARY:Stretch It Out
END:VEVENT
END:VCALENDAR
