BEGIN:VCALENDAR
VERSION:2.0
PRODID:-//empowercdc.org//NONSGML kigkonsult.se iCalcreator 2.30.10//
CALSCALE:GREGORIAN
METHOD:PUBLISH
UID:5f3eff87-4f75-4dc3-950a-f449e7aff688
X-WR-CALDESC:
X-WR-RELCALID:2da97cf39a52203ad8e792b0dabb3830
X-WR-TIMEZONE:America/Chicago
BEGIN:VTIMEZONE
TZID:America/Chicago
BEGIN:STANDARD
TZNAME:CST
DTSTART:20211107T020000
TZOFFSETFROM:-0500
TZOFFSETTO:-0600
RDATE:20221106T020000
END:STANDARD
BEGIN:DAYLIGHT
TZNAME:CDT
DTSTART:20210314T020000
TZOFFSETFROM:-0600
TZOFFSETTO:-0500
RDATE:20220313T020000
RDATE:20230312T020000
END:DAYLIGHT
END:VTIMEZONE
BEGIN:VEVENT
UID:86a30395-a48c-49e9-9bb6-e5985ac01b1f
DTSTAMP:20260424T031620Z
DESCRIPTION:
DTSTART;TZID=America/Chicago:20211228T140000
DTEND;TZID=America/Chicago:20211228T150000
LOCATION:
SUMMARY:Simply Fit
END:VEVENT
END:VCALENDAR
