BEGIN:VCALENDAR
VERSION:2.0
PRODID:-//empowercdc.org//NONSGML kigkonsult.se iCalcreator 2.30.10//
CALSCALE:GREGORIAN
METHOD:PUBLISH
UID:759f07a7-a3c6-431f-9453-8dbf2ebeeaba
X-WR-CALDESC:
X-WR-RELCALID:a6f37ce784e94ea8866b93936212d894
X-WR-TIMEZONE:America/Chicago
BEGIN:VTIMEZONE
TZID:America/Chicago
BEGIN:STANDARD
TZNAME:CST
DTSTART:20211107T020000
TZOFFSETFROM:-0500
TZOFFSETTO:-0600
RDATE:20221106T020000
END:STANDARD
BEGIN:DAYLIGHT
TZNAME:CDT
DTSTART:20210314T020000
TZOFFSETFROM:-0600
TZOFFSETTO:-0500
RDATE:20220313T020000
RDATE:20230312T020000
END:DAYLIGHT
END:VTIMEZONE
BEGIN:VEVENT
UID:984a0a9d-45d2-4c25-b38f-280d7b66e1b7
DTSTAMP:20260424T031144Z
DESCRIPTION:
DTSTART;TZID=America/Chicago:20211223T143000
DTEND;TZID=America/Chicago:20211223T153000
LOCATION:Heritage Seniors
SUMMARY:Scrabble Ornaments
END:VEVENT
END:VCALENDAR
